BEGIN:VCALENDAR
VERSION:2.0
PRODID:-//Ökumenisches Zentrum Stuttgart - ECPv6.5.0//NONSGML v1.0//EN
CALSCALE:GREGORIAN
METHOD:PUBLISH
X-ORIGINAL-URL:https://oekumenisches-zentrum.de
X-WR-CALDESC:Veranstaltungen für Ökumenisches Zentrum Stuttgart
REFRESH-INTERVAL;VALUE=DURATION:PT1H
X-Robots-Tag:noindex
X-PUBLISHED-TTL:PT1H
BEGIN:VTIMEZONE
TZID:Europe/Berlin
BEGIN:DAYLIGHT
TZOFFSETFROM:+0100
TZOFFSETTO:+0200
TZNAME:CEST
DTSTART:20250330T010000
END:DAYLIGHT
BEGIN:STANDARD
TZOFFSETFROM:+0200
TZOFFSETTO:+0100
TZNAME:CET
DTSTART:20251026T010000
END:STANDARD
END:VTIMEZONE
BEGIN:VEVENT
DTSTART;TZID=Europe/Berlin:20250605T150000
DTEND;TZID=Europe/Berlin:20250605T160000
DTSTAMP:20260425T152204
CREATED:20250121T003241Z
LAST-MODIFIED:20250403T140501Z
UID:10001494-1749135600-1749139200@oekumenisches-zentrum.de
SUMMARY:Integratives Selbstverteidigungstraining
DESCRIPTION:Donnerstag von 15:00-16:00 Uhr findet im ÖZ ein Selbstverteidigungskurs für Kinder und Jugendliche (von 9 bis 20 Jahren) statt .Dieses besondere Angebot richtet sich sowohl an junge Menschen mit als auch ohne Behinderung. Die Kinder und Jugendlichen mit Assistenzbedarf werden von Studierenden begleitet. Unter der fachkundigen Anleitung eines ausgebildeten Coaches von Protactics erlernen die Teilnehmenden wichtige Fähigkeiten zur Selbstverteidigung. Sie stärken ihr Selbstbewusstsein durch gezielte Übungen und machen positive Erfahrungen mit ihrer eigenen Körperwirksamkeit. \nZiele des Kurses:\n• Selbstbewusstes Auftreten\n• Stärkung des Selbstbewusstseins\n• Förderung von sozialem Engagement\n• Schaffung eines Begegnungsraums\n• Erlernen von Selbstverteidigungstechniken \nAnmeldungen bitte an: info@oekumenisches-zentrum.de  \n 
URL:https://oekumenisches-zentrum.de/veranstaltung/integratives-selbstverteidigungskurs-fuer-studis-2-2/2025-06-05/
LOCATION:Ökumenisches Zentrum\, Allmandring 6\, Stuttgart\, 70569\, Deutschland
CATEGORIES:Kurse
ATTACH;FMTTYPE=image/png:https://oekumenisches-zentrum.de/wp-content/uploads/Webseite_Bild_V2_Selbstverteidigungskurs2.png
END:VEVENT
BEGIN:VEVENT
DTSTART;TZID=Europe/Berlin:20250603T130000
DTEND;TZID=Europe/Berlin:20250603T143000
DTSTAMP:20260425T152204
CREATED:20250404T095857Z
LAST-MODIFIED:20250404T095857Z
UID:10002080-1748955600-1748961000@oekumenisches-zentrum.de
SUMMARY:Kreative Mittagspause
DESCRIPTION:Lust auf eine besondere Auszeit\, die dich inspiriert und zur Entspannung einlädt?\nDann komm gerne immer Dienstags von 13:00 Uhr bis 14:30 Uhr ins ÖZ und entdecke neue Seiten an Dir!\nDu findest uns im großen Seminarraum und bei schönem Wetter auch auf der Terrasse 🙂\nHerzliche Einladung
URL:https://oekumenisches-zentrum.de/veranstaltung/kreative-mittagspause-9/2025-06-03/
LOCATION:Ökumenisches Zentrum\, Allmandring 6\, Stuttgart\, 70569\, Deutschland
ATTACH;FMTTYPE=image/png:https://oekumenisches-zentrum.de/wp-content/uploads/Webseite_kreativemittagspause.png
END:VEVENT
BEGIN:VEVENT
DTSTART;TZID=Europe/Berlin:20250602T193000
DTEND;TZID=Europe/Berlin:20250602T213000
DTSTAMP:20260425T152204
CREATED:20250515T083104Z
LAST-MODIFIED:20250515T083104Z
UID:10002861-1748892600-1748899800@oekumenisches-zentrum.de
SUMMARY:Veganer Kochabend mit Thomas Adam
DESCRIPTION:
URL:https://oekumenisches-zentrum.de/veranstaltung/veganer-kochabend-mit-thomas-adam/
LOCATION:Ökumenisches Zentrum\, Allmandring 6\, Stuttgart\, 70569\, Deutschland
CATEGORIES:Veranstaltung
ATTACH;FMTTYPE=image/png:https://oekumenisches-zentrum.de/wp-content/uploads/Zwischenueberschrift-hinzufuegen-2-scaled.png
END:VEVENT
BEGIN:VEVENT
DTSTART;TZID=Europe/Berlin:20250602T180000
DTEND;TZID=Europe/Berlin:20250602T190000
DTSTAMP:20260425T152204
CREATED:20250404T104702Z
LAST-MODIFIED:20250404T104702Z
UID:10002342-1748887200-1748890800@oekumenisches-zentrum.de
SUMMARY:Meditation
DESCRIPTION:Meditation mit Atemarbeit und Klang\nLass Dich von der Kraft der Meditation und dem Klang verschiedener Instrumente verzaubern und erfahre\, wie diese Dich im Alltag stärken können.\nWir treffen uns immer Montags im Raum der Stille\nHerzliche Einladung
URL:https://oekumenisches-zentrum.de/veranstaltung/meditation-2/2025-06-02/
LOCATION:Ökumenisches Zentrum\, Allmandring 6\, Stuttgart\, 70569\, Deutschland
ATTACH;FMTTYPE=image/png:https://oekumenisches-zentrum.de/wp-content/uploads/Kachel_Meditation_.png
END:VEVENT
BEGIN:VEVENT
DTSTART;TZID=Europe/Berlin:20250528T180000
DTEND;TZID=Europe/Berlin:20250528T220000
DTSTAMP:20260425T152204
CREATED:20250521T125905Z
LAST-MODIFIED:20250521T125905Z
UID:10002863-1748455200-1748469600@oekumenisches-zentrum.de
SUMMARY:Erste-Hilfe-Kurs
DESCRIPTION:
URL:https://oekumenisches-zentrum.de/veranstaltung/erste-hilfe-kurs-3/
LOCATION:Ökumenisches Zentrum\, Allmandring 6\, Stuttgart\, 70569\, Deutschland
ATTACH;FMTTYPE=image/png:https://oekumenisches-zentrum.de/wp-content/uploads/Zwischenueberschrift-hinzufuegen-1-2-scaled.png
END:VEVENT
BEGIN:VEVENT
DTSTART;TZID=Europe/Berlin:20250527T180000
DTEND;TZID=Europe/Berlin:20250527T220000
DTSTAMP:20260425T152204
CREATED:20250505T130616Z
LAST-MODIFIED:20250521T125547Z
UID:10002857-1748368800-1748383200@oekumenisches-zentrum.de
SUMMARY:Erste-Hilfe-Kurs
DESCRIPTION:
URL:https://oekumenisches-zentrum.de/veranstaltung/erste-hilfe-kurs/
LOCATION:Ökumenisches Zentrum\, Allmandring 6\, Stuttgart\, 70569\, Deutschland
ATTACH;FMTTYPE=image/png:https://oekumenisches-zentrum.de/wp-content/uploads/Zwischenueberschrift-hinzufuegen-1-2-scaled.png
END:VEVENT
BEGIN:VEVENT
DTSTART;TZID=Europe/Berlin:20250527T130000
DTEND;TZID=Europe/Berlin:20250527T143000
DTSTAMP:20260425T152204
CREATED:20250404T095857Z
LAST-MODIFIED:20250404T095857Z
UID:10002079-1748350800-1748356200@oekumenisches-zentrum.de
SUMMARY:Kreative Mittagspause
DESCRIPTION:Lust auf eine besondere Auszeit\, die dich inspiriert und zur Entspannung einlädt?\nDann komm gerne immer Dienstags von 13:00 Uhr bis 14:30 Uhr ins ÖZ und entdecke neue Seiten an Dir!\nDu findest uns im großen Seminarraum und bei schönem Wetter auch auf der Terrasse 🙂\nHerzliche Einladung
URL:https://oekumenisches-zentrum.de/veranstaltung/kreative-mittagspause-9/2025-05-27/
LOCATION:Ökumenisches Zentrum\, Allmandring 6\, Stuttgart\, 70569\, Deutschland
ATTACH;FMTTYPE=image/png:https://oekumenisches-zentrum.de/wp-content/uploads/Webseite_kreativemittagspause.png
END:VEVENT
BEGIN:VEVENT
DTSTART;TZID=Europe/Berlin:20250526T180000
DTEND;TZID=Europe/Berlin:20250526T190000
DTSTAMP:20260425T152204
CREATED:20250404T104702Z
LAST-MODIFIED:20250404T104702Z
UID:10002341-1748282400-1748286000@oekumenisches-zentrum.de
SUMMARY:Meditation
DESCRIPTION:Meditation mit Atemarbeit und Klang\nLass Dich von der Kraft der Meditation und dem Klang verschiedener Instrumente verzaubern und erfahre\, wie diese Dich im Alltag stärken können.\nWir treffen uns immer Montags im Raum der Stille\nHerzliche Einladung
URL:https://oekumenisches-zentrum.de/veranstaltung/meditation-2/2025-05-26/
LOCATION:Ökumenisches Zentrum\, Allmandring 6\, Stuttgart\, 70569\, Deutschland
ATTACH;FMTTYPE=image/png:https://oekumenisches-zentrum.de/wp-content/uploads/Kachel_Meditation_.png
END:VEVENT
BEGIN:VEVENT
DTSTART;TZID=Europe/Berlin:20250520T130000
DTEND;TZID=Europe/Berlin:20250520T143000
DTSTAMP:20260425T152204
CREATED:20250404T095857Z
LAST-MODIFIED:20250404T095857Z
UID:10002078-1747746000-1747751400@oekumenisches-zentrum.de
SUMMARY:Kreative Mittagspause
DESCRIPTION:Lust auf eine besondere Auszeit\, die dich inspiriert und zur Entspannung einlädt?\nDann komm gerne immer Dienstags von 13:00 Uhr bis 14:30 Uhr ins ÖZ und entdecke neue Seiten an Dir!\nDu findest uns im großen Seminarraum und bei schönem Wetter auch auf der Terrasse 🙂\nHerzliche Einladung
URL:https://oekumenisches-zentrum.de/veranstaltung/kreative-mittagspause-9/2025-05-20/
LOCATION:Ökumenisches Zentrum\, Allmandring 6\, Stuttgart\, 70569\, Deutschland
ATTACH;FMTTYPE=image/png:https://oekumenisches-zentrum.de/wp-content/uploads/Webseite_kreativemittagspause.png
END:VEVENT
BEGIN:VEVENT
DTSTART;TZID=Europe/Berlin:20250519T193000
DTEND;TZID=Europe/Berlin:20250519T213000
DTSTAMP:20260425T152204
CREATED:20250516T214146Z
LAST-MODIFIED:20250516T214146Z
UID:10002862-1747683000-1747690200@oekumenisches-zentrum.de
SUMMARY:Body & Space Workshop by Sepideh Elmi
DESCRIPTION:
URL:https://oekumenisches-zentrum.de/veranstaltung/body-space-workshop-by-sepideh-elmi/
LOCATION:Ökumenisches Zentrum\, Allmandring 6\, Stuttgart\, 70569\, Deutschland
ATTACH;FMTTYPE=image/png:https://oekumenisches-zentrum.de/wp-content/uploads/Zwischenueberschrift-hinzufuegen-1-3-scaled.png
END:VEVENT
BEGIN:VEVENT
DTSTART;TZID=Europe/Berlin:20250519T180000
DTEND;TZID=Europe/Berlin:20250519T190000
DTSTAMP:20260425T152204
CREATED:20250404T104702Z
LAST-MODIFIED:20250404T104702Z
UID:10002340-1747677600-1747681200@oekumenisches-zentrum.de
SUMMARY:Meditation
DESCRIPTION:Meditation mit Atemarbeit und Klang\nLass Dich von der Kraft der Meditation und dem Klang verschiedener Instrumente verzaubern und erfahre\, wie diese Dich im Alltag stärken können.\nWir treffen uns immer Montags im Raum der Stille\nHerzliche Einladung
URL:https://oekumenisches-zentrum.de/veranstaltung/meditation-2/2025-05-19/
LOCATION:Ökumenisches Zentrum\, Allmandring 6\, Stuttgart\, 70569\, Deutschland
ATTACH;FMTTYPE=image/png:https://oekumenisches-zentrum.de/wp-content/uploads/Kachel_Meditation_.png
END:VEVENT
BEGIN:VEVENT
DTSTART;TZID=Europe/Berlin:20250515T150000
DTEND;TZID=Europe/Berlin:20250515T160000
DTSTAMP:20260425T152204
CREATED:20250121T003241Z
LAST-MODIFIED:20250403T140501Z
UID:10001493-1747321200-1747324800@oekumenisches-zentrum.de
SUMMARY:Integratives Selbstverteidigungstraining
DESCRIPTION:Donnerstag von 15:00-16:00 Uhr findet im ÖZ ein Selbstverteidigungskurs für Kinder und Jugendliche (von 9 bis 20 Jahren) statt .Dieses besondere Angebot richtet sich sowohl an junge Menschen mit als auch ohne Behinderung. Die Kinder und Jugendlichen mit Assistenzbedarf werden von Studierenden begleitet. Unter der fachkundigen Anleitung eines ausgebildeten Coaches von Protactics erlernen die Teilnehmenden wichtige Fähigkeiten zur Selbstverteidigung. Sie stärken ihr Selbstbewusstsein durch gezielte Übungen und machen positive Erfahrungen mit ihrer eigenen Körperwirksamkeit. \nZiele des Kurses:\n• Selbstbewusstes Auftreten\n• Stärkung des Selbstbewusstseins\n• Förderung von sozialem Engagement\n• Schaffung eines Begegnungsraums\n• Erlernen von Selbstverteidigungstechniken \nAnmeldungen bitte an: info@oekumenisches-zentrum.de  \n 
URL:https://oekumenisches-zentrum.de/veranstaltung/integratives-selbstverteidigungskurs-fuer-studis-2-2/2025-05-15/
LOCATION:Ökumenisches Zentrum\, Allmandring 6\, Stuttgart\, 70569\, Deutschland
CATEGORIES:Kurse
ATTACH;FMTTYPE=image/png:https://oekumenisches-zentrum.de/wp-content/uploads/Webseite_Bild_V2_Selbstverteidigungskurs2.png
END:VEVENT
BEGIN:VEVENT
DTSTART;TZID=Europe/Berlin:20250513T130000
DTEND;TZID=Europe/Berlin:20250513T143000
DTSTAMP:20260425T152204
CREATED:20250404T095857Z
LAST-MODIFIED:20250404T095857Z
UID:10002077-1747141200-1747146600@oekumenisches-zentrum.de
SUMMARY:Kreative Mittagspause
DESCRIPTION:Lust auf eine besondere Auszeit\, die dich inspiriert und zur Entspannung einlädt?\nDann komm gerne immer Dienstags von 13:00 Uhr bis 14:30 Uhr ins ÖZ und entdecke neue Seiten an Dir!\nDu findest uns im großen Seminarraum und bei schönem Wetter auch auf der Terrasse 🙂\nHerzliche Einladung
URL:https://oekumenisches-zentrum.de/veranstaltung/kreative-mittagspause-9/2025-05-13/
LOCATION:Ökumenisches Zentrum\, Allmandring 6\, Stuttgart\, 70569\, Deutschland
ATTACH;FMTTYPE=image/png:https://oekumenisches-zentrum.de/wp-content/uploads/Webseite_kreativemittagspause.png
END:VEVENT
BEGIN:VEVENT
DTSTART;TZID=Europe/Berlin:20250512T193000
DTEND;TZID=Europe/Berlin:20250512T220000
DTSTAMP:20260425T152204
CREATED:20250508T130007Z
LAST-MODIFIED:20250509T164217Z
UID:10002859-1747078200-1747087200@oekumenisches-zentrum.de
SUMMARY:Art Night
DESCRIPTION:Wir laden herzlich ein zu einem kreativen Abend im ÖZ mit einer Präsentation zu den Grundlagen des Zeichnens\, einem Workshop zur Objekte als einfache Formen und Komposition und digitalem Live-Sketching von @fayni.drawings (auf Instagram). Freut euch auf den Austausch in kreativer Atmosphäre mit Kunstinteressierten.
URL:https://oekumenisches-zentrum.de/veranstaltung/art-night/
LOCATION:Ökumenisches Zentrum\, Allmandring 6\, Stuttgart\, 70569\, Deutschland
ATTACH;FMTTYPE=image/png:https://oekumenisches-zentrum.de/wp-content/uploads/Webseite_artnight12.05.png
END:VEVENT
BEGIN:VEVENT
DTSTART;TZID=Europe/Berlin:20250512T180000
DTEND;TZID=Europe/Berlin:20250512T190000
DTSTAMP:20260425T152204
CREATED:20250404T104702Z
LAST-MODIFIED:20250404T104702Z
UID:10002339-1747072800-1747076400@oekumenisches-zentrum.de
SUMMARY:Meditation
DESCRIPTION:Meditation mit Atemarbeit und Klang\nLass Dich von der Kraft der Meditation und dem Klang verschiedener Instrumente verzaubern und erfahre\, wie diese Dich im Alltag stärken können.\nWir treffen uns immer Montags im Raum der Stille\nHerzliche Einladung
URL:https://oekumenisches-zentrum.de/veranstaltung/meditation-2/2025-05-12/
LOCATION:Ökumenisches Zentrum\, Allmandring 6\, Stuttgart\, 70569\, Deutschland
ATTACH;FMTTYPE=image/png:https://oekumenisches-zentrum.de/wp-content/uploads/Kachel_Meditation_.png
END:VEVENT
BEGIN:VEVENT
DTSTART;TZID=Europe/Berlin:20250506T130000
DTEND;TZID=Europe/Berlin:20250506T143000
DTSTAMP:20260425T152204
CREATED:20250404T095857Z
LAST-MODIFIED:20250404T095857Z
UID:10002076-1746536400-1746541800@oekumenisches-zentrum.de
SUMMARY:Kreative Mittagspause
DESCRIPTION:Lust auf eine besondere Auszeit\, die dich inspiriert und zur Entspannung einlädt?\nDann komm gerne immer Dienstags von 13:00 Uhr bis 14:30 Uhr ins ÖZ und entdecke neue Seiten an Dir!\nDu findest uns im großen Seminarraum und bei schönem Wetter auch auf der Terrasse 🙂\nHerzliche Einladung
URL:https://oekumenisches-zentrum.de/veranstaltung/kreative-mittagspause-9/2025-05-06/
LOCATION:Ökumenisches Zentrum\, Allmandring 6\, Stuttgart\, 70569\, Deutschland
ATTACH;FMTTYPE=image/png:https://oekumenisches-zentrum.de/wp-content/uploads/Webseite_kreativemittagspause.png
END:VEVENT
BEGIN:VEVENT
DTSTART;TZID=Europe/Berlin:20250505T193000
DTEND;TZID=Europe/Berlin:20250505T220000
DTSTAMP:20260425T152204
CREATED:20250502T132204Z
LAST-MODIFIED:20250502T132204Z
UID:10002856-1746473400-1746482400@oekumenisches-zentrum.de
SUMMARY:ÖZ Abend "Grill & Chill"
DESCRIPTION:Lasst uns Spaß haben \nGrill & Chill auf der Dachterrasse -genießt einen\nentspannten Abend mit leckerem Essen & coolen Drinks \nBring gute Laune mit -wir sorgen für den Rest! \nEintritt frei – Freunde willkommen 🙂
URL:https://oekumenisches-zentrum.de/veranstaltung/oez-abend-grill-chill/
LOCATION:Ökumenisches Zentrum\, Allmandring 6\, Stuttgart\, 70569\, Deutschland
ATTACH;FMTTYPE=image/png:https://oekumenisches-zentrum.de/wp-content/uploads/Grill_und_Chill_OeZ-Abend-Kachel.png
END:VEVENT
BEGIN:VEVENT
DTSTART;TZID=Europe/Berlin:20250505T180000
DTEND;TZID=Europe/Berlin:20250505T190000
DTSTAMP:20260425T152204
CREATED:20250404T104702Z
LAST-MODIFIED:20250404T104702Z
UID:10002338-1746468000-1746471600@oekumenisches-zentrum.de
SUMMARY:Meditation
DESCRIPTION:Meditation mit Atemarbeit und Klang\nLass Dich von der Kraft der Meditation und dem Klang verschiedener Instrumente verzaubern und erfahre\, wie diese Dich im Alltag stärken können.\nWir treffen uns immer Montags im Raum der Stille\nHerzliche Einladung
URL:https://oekumenisches-zentrum.de/veranstaltung/meditation-2/2025-05-05/
LOCATION:Ökumenisches Zentrum\, Allmandring 6\, Stuttgart\, 70569\, Deutschland
ATTACH;FMTTYPE=image/png:https://oekumenisches-zentrum.de/wp-content/uploads/Kachel_Meditation_.png
END:VEVENT
BEGIN:VEVENT
DTSTART;TZID=Europe/Berlin:20250429T130000
DTEND;TZID=Europe/Berlin:20250429T143000
DTSTAMP:20260425T152204
CREATED:20250404T095857Z
LAST-MODIFIED:20250404T095857Z
UID:10002075-1745931600-1745937000@oekumenisches-zentrum.de
SUMMARY:Kreative Mittagspause
DESCRIPTION:Lust auf eine besondere Auszeit\, die dich inspiriert und zur Entspannung einlädt?\nDann komm gerne immer Dienstags von 13:00 Uhr bis 14:30 Uhr ins ÖZ und entdecke neue Seiten an Dir!\nDu findest uns im großen Seminarraum und bei schönem Wetter auch auf der Terrasse 🙂\nHerzliche Einladung
URL:https://oekumenisches-zentrum.de/veranstaltung/kreative-mittagspause-9/2025-04-29/
LOCATION:Ökumenisches Zentrum\, Allmandring 6\, Stuttgart\, 70569\, Deutschland
ATTACH;FMTTYPE=image/png:https://oekumenisches-zentrum.de/wp-content/uploads/Webseite_kreativemittagspause.png
END:VEVENT
BEGIN:VEVENT
DTSTART;TZID=Europe/Berlin:20250428T193000
DTEND;TZID=Europe/Berlin:20250428T213000
DTSTAMP:20260425T152204
CREATED:20250417T093027Z
LAST-MODIFIED:20250418T113929Z
UID:10002855-1745868600-1745875800@oekumenisches-zentrum.de
SUMMARY:Pubquiz: Nachhaltigkeit mit Crossing Borders Stuttgart
DESCRIPTION:Quiz on the topic of “Sustainability” Brief presentation of Crossing Borders Stuttgart \nNice people \nDrinks & Snacks \nJust drop by
URL:https://oekumenisches-zentrum.de/veranstaltung/pubquiz-nachhaltigkeit-mit-crossing-borders-stuttgart/
LOCATION:Ökumenisches Zentrum\, Allmandring 6\, Stuttgart\, 70569\, Deutschland
CATEGORIES:ÖZ Abende
ATTACH;FMTTYPE=image/png:https://oekumenisches-zentrum.de/wp-content/uploads/Zwischenueberschrift-hinzufuegen-1-1-scaled.png
END:VEVENT
BEGIN:VEVENT
DTSTART;TZID=Europe/Berlin:20250428T180000
DTEND;TZID=Europe/Berlin:20250428T190000
DTSTAMP:20260425T152204
CREATED:20250404T104702Z
LAST-MODIFIED:20250404T104702Z
UID:10002337-1745863200-1745866800@oekumenisches-zentrum.de
SUMMARY:Meditation
DESCRIPTION:Meditation mit Atemarbeit und Klang\nLass Dich von der Kraft der Meditation und dem Klang verschiedener Instrumente verzaubern und erfahre\, wie diese Dich im Alltag stärken können.\nWir treffen uns immer Montags im Raum der Stille\nHerzliche Einladung
URL:https://oekumenisches-zentrum.de/veranstaltung/meditation-2/2025-04-28/
LOCATION:Ökumenisches Zentrum\, Allmandring 6\, Stuttgart\, 70569\, Deutschland
ATTACH;FMTTYPE=image/png:https://oekumenisches-zentrum.de/wp-content/uploads/Kachel_Meditation_.png
END:VEVENT
BEGIN:VEVENT
DTSTART;TZID=Europe/Berlin:20250422T130000
DTEND;TZID=Europe/Berlin:20250422T143000
DTSTAMP:20260425T152204
CREATED:20250404T095857Z
LAST-MODIFIED:20250404T095857Z
UID:10002074-1745326800-1745332200@oekumenisches-zentrum.de
SUMMARY:Kreative Mittagspause
DESCRIPTION:Lust auf eine besondere Auszeit\, die dich inspiriert und zur Entspannung einlädt?\nDann komm gerne immer Dienstags von 13:00 Uhr bis 14:30 Uhr ins ÖZ und entdecke neue Seiten an Dir!\nDu findest uns im großen Seminarraum und bei schönem Wetter auch auf der Terrasse 🙂\nHerzliche Einladung
URL:https://oekumenisches-zentrum.de/veranstaltung/kreative-mittagspause-9/2025-04-22/
LOCATION:Ökumenisches Zentrum\, Allmandring 6\, Stuttgart\, 70569\, Deutschland
ATTACH;FMTTYPE=image/png:https://oekumenisches-zentrum.de/wp-content/uploads/Webseite_kreativemittagspause.png
END:VEVENT
BEGIN:VEVENT
DTSTART;TZID=Europe/Berlin:20250421T180000
DTEND;TZID=Europe/Berlin:20250421T190000
DTSTAMP:20260425T152204
CREATED:20250404T104702Z
LAST-MODIFIED:20250404T104702Z
UID:10002336-1745258400-1745262000@oekumenisches-zentrum.de
SUMMARY:Meditation
DESCRIPTION:Meditation mit Atemarbeit und Klang\nLass Dich von der Kraft der Meditation und dem Klang verschiedener Instrumente verzaubern und erfahre\, wie diese Dich im Alltag stärken können.\nWir treffen uns immer Montags im Raum der Stille\nHerzliche Einladung
URL:https://oekumenisches-zentrum.de/veranstaltung/meditation-2/2025-04-21/
LOCATION:Ökumenisches Zentrum\, Allmandring 6\, Stuttgart\, 70569\, Deutschland
ATTACH;FMTTYPE=image/png:https://oekumenisches-zentrum.de/wp-content/uploads/Kachel_Meditation_.png
END:VEVENT
BEGIN:VEVENT
DTSTART;TZID=Europe/Berlin:20250415T130000
DTEND;TZID=Europe/Berlin:20250415T143000
DTSTAMP:20260425T152204
CREATED:20250404T095857Z
LAST-MODIFIED:20250404T095857Z
UID:10002073-1744722000-1744727400@oekumenisches-zentrum.de
SUMMARY:Kreative Mittagspause
DESCRIPTION:Lust auf eine besondere Auszeit\, die dich inspiriert und zur Entspannung einlädt?\nDann komm gerne immer Dienstags von 13:00 Uhr bis 14:30 Uhr ins ÖZ und entdecke neue Seiten an Dir!\nDu findest uns im großen Seminarraum und bei schönem Wetter auch auf der Terrasse 🙂\nHerzliche Einladung
URL:https://oekumenisches-zentrum.de/veranstaltung/kreative-mittagspause-9/2025-04-15/
LOCATION:Ökumenisches Zentrum\, Allmandring 6\, Stuttgart\, 70569\, Deutschland
ATTACH;FMTTYPE=image/png:https://oekumenisches-zentrum.de/wp-content/uploads/Webseite_kreativemittagspause.png
END:VEVENT
BEGIN:VEVENT
DTSTART;TZID=Europe/Berlin:20250414T180000
DTEND;TZID=Europe/Berlin:20250414T190000
DTSTAMP:20260425T152204
CREATED:20250404T104702Z
LAST-MODIFIED:20250404T104702Z
UID:10002335-1744653600-1744657200@oekumenisches-zentrum.de
SUMMARY:Meditation
DESCRIPTION:Meditation mit Atemarbeit und Klang\nLass Dich von der Kraft der Meditation und dem Klang verschiedener Instrumente verzaubern und erfahre\, wie diese Dich im Alltag stärken können.\nWir treffen uns immer Montags im Raum der Stille\nHerzliche Einladung
URL:https://oekumenisches-zentrum.de/veranstaltung/meditation-2/2025-04-14/
LOCATION:Ökumenisches Zentrum\, Allmandring 6\, Stuttgart\, 70569\, Deutschland
ATTACH;FMTTYPE=image/png:https://oekumenisches-zentrum.de/wp-content/uploads/Kachel_Meditation_.png
END:VEVENT
BEGIN:VEVENT
DTSTART;TZID=Europe/Berlin:20250408T130000
DTEND;TZID=Europe/Berlin:20250408T143000
DTSTAMP:20260425T152204
CREATED:20250404T095857Z
LAST-MODIFIED:20250404T095857Z
UID:10002072-1744117200-1744122600@oekumenisches-zentrum.de
SUMMARY:Kreative Mittagspause
DESCRIPTION:Lust auf eine besondere Auszeit\, die dich inspiriert und zur Entspannung einlädt?\nDann komm gerne immer Dienstags von 13:00 Uhr bis 14:30 Uhr ins ÖZ und entdecke neue Seiten an Dir!\nDu findest uns im großen Seminarraum und bei schönem Wetter auch auf der Terrasse 🙂\nHerzliche Einladung
URL:https://oekumenisches-zentrum.de/veranstaltung/kreative-mittagspause-9/2025-04-08/
LOCATION:Ökumenisches Zentrum\, Allmandring 6\, Stuttgart\, 70569\, Deutschland
ATTACH;FMTTYPE=image/png:https://oekumenisches-zentrum.de/wp-content/uploads/Webseite_kreativemittagspause.png
END:VEVENT
BEGIN:VEVENT
DTSTART;TZID=Europe/Berlin:20250407T193000
DTEND;TZID=Europe/Berlin:20250407T220000
DTSTAMP:20260425T152204
CREATED:20250320T070001Z
LAST-MODIFIED:20250320T070122Z
UID:10002068-1744054200-1744063200@oekumenisches-zentrum.de
SUMMARY:ÖZ-Abend
DESCRIPTION:Komm zur Eröffnung des Sommersemesters im ÖZ mit „Kontraste“ – Eine Ausstellung des AK Photographie. \nWir freuen uns auf Sie / auf Euch
URL:https://oekumenisches-zentrum.de/veranstaltung/oez-abend/
LOCATION:Ökumenisches Zentrum\, Allmandring 6\, Stuttgart\, 70569\, Deutschland
CATEGORIES:ÖZ Abende
ATTACH;FMTTYPE=image/png:https://oekumenisches-zentrum.de/wp-content/uploads/OeZ-Webseite-Kachel_07_04_25_OeZ_SoSe_Eroeffnung.png
END:VEVENT
BEGIN:VEVENT
DTSTART;TZID=Europe/Berlin:20250407T180000
DTEND;TZID=Europe/Berlin:20250407T193000
DTSTAMP:20260425T152204
CREATED:20250404T101041Z
LAST-MODIFIED:20250404T101041Z
UID:10002333-1744048800-1744054200@oekumenisches-zentrum.de
SUMMARY:Bibel teilen
DESCRIPTION:Gemeinsam eine Bibelstelle vertiefen.\nAustausch darüber\, ob sie im eigenen Leben hilfreich sein kann\nHerzliche Einladung
URL:https://oekumenisches-zentrum.de/veranstaltung/bibel-teilen/
LOCATION:Ökumenisches Zentrum\, Allmandring 6\, Stuttgart\, 70569\, Deutschland
ATTACH;FMTTYPE=image/png:https://oekumenisches-zentrum.de/wp-content/uploads/Kachel_Bibel_teilen.png
END:VEVENT
BEGIN:VEVENT
DTSTART;TZID=Europe/Berlin:20250407T180000
DTEND;TZID=Europe/Berlin:20250407T190000
DTSTAMP:20260425T152204
CREATED:20250404T104702Z
LAST-MODIFIED:20250404T104702Z
UID:10002334-1744048800-1744052400@oekumenisches-zentrum.de
SUMMARY:Meditation
DESCRIPTION:Meditation mit Atemarbeit und Klang\nLass Dich von der Kraft der Meditation und dem Klang verschiedener Instrumente verzaubern und erfahre\, wie diese Dich im Alltag stärken können.\nWir treffen uns immer Montags im Raum der Stille\nHerzliche Einladung
URL:https://oekumenisches-zentrum.de/veranstaltung/meditation-2/2025-04-07/
LOCATION:Ökumenisches Zentrum\, Allmandring 6\, Stuttgart\, 70569\, Deutschland
ATTACH;FMTTYPE=image/png:https://oekumenisches-zentrum.de/wp-content/uploads/Kachel_Meditation_.png
END:VEVENT
BEGIN:VEVENT
DTSTART;TZID=Europe/Berlin:20250405T100000
DTEND;TZID=Europe/Berlin:20250405T180000
DTSTAMP:20260425T152204
CREATED:20250312T135720Z
LAST-MODIFIED:20250312T141154Z
UID:10001784-1743847200-1743876000@oekumenisches-zentrum.de
SUMMARY:Meditationsworkshop
DESCRIPTION:Mutig\, stark\, beherzt: Meditationsworkshop (5.04) und Gottesdienst (06.04) mit Atem- und Klang. \nMeditationsworkshop\nHerzliche Einladung zu einen inspirierenden Meditationswochenende unter der Leitung von Pfarrerin Dr. Hélène Eichrodt-Kessel und Obertonsängerin Ulrissa Lund. Mit Atem- und Klangarbeit öffnen wir spirituelle Räume und finden Antworten auf zentrale Lebensfragen. Während dem Oasentag am Samstag entdecken wir gemeinsam die aufrichtende Kraft des Atems und lassen uns von der Geisteskraft Ruach tragen. Ein Erlebnis\, das Mut und Stärke für unseren Lebensweg schenkt. Ein Klangkonzert im Liegen bereitet Ihnen ein einmaliges Erlebnis.\nIm Gottesdienst am Sonntag\, musikalisch begleitet von einer internationalen Gruppe von Studierenden\, begeben wir uns auf eine musikalisch – mystische Reise. Lassen Sie sich von der Kraft der Meditation und der Klangperformance verzaubern und erfahren Sie\, wie diese Sie im Alltag stärken kann. \nAnmeldung bis zum 23.03 unter: veranstaltungen@oekumenisches-zentrum.de\nTel: 0157-35777279. Inkl. Kinderbetreuung möglich.\nKosten: Nach Selbsteinschätzung (Richtwert 90 €)\, bez. vor Ort. (Plätze begrenzt) \n  \nGottesdienst\nSonntag\, 6.04. 2025\, 10:00Uhr: Meditationsgottesdienst mit Atem und Klang\nWo: Stadtkirche Stuttgart Vaihingen\nMit: Dr. Hélène Eichrodt-Kessel (Pfarrerin\, spirituelle Begleiterin)\,\nUlrissa Lund (Obertonsängerin)\n(Keine Anmeldung erforderlich)
URL:https://oekumenisches-zentrum.de/veranstaltung/meditationsworkshop/
LOCATION:Ökumenisches Zentrum\, Allmandring 6\, Stuttgart\, 70569\, Deutschland
END:VEVENT
END:VCALENDAR